BEGIN:VCALENDAR
VERSION:2.0
PRODID:-//Boone County Sheriff, Indiana - ECPv6.11.2.1//NONSGML v1.0//EN
CALSCALE:GREGORIAN
METHOD:PUBLISH
X-WR-CALNAME:Boone County Sheriff, Indiana
X-ORIGINAL-URL:https://www.boonecountyindianasheriff.com
X-WR-CALDESC:Events for Boone County Sheriff, Indiana
REFRESH-INTERVAL;VALUE=DURATION:PT1H
X-Robots-Tag:noindex
X-PUBLISHED-TTL:PT1H
BEGIN:VTIMEZONE
TZID:America/Indiana/Indianapolis
BEGIN:DAYLIGHT
TZOFFSETFROM:-0500
TZOFFSETTO:-0400
TZNAME:EDT
DTSTART:20260308T070000
END:DAYLIGHT
BEGIN:STANDARD
TZOFFSETFROM:-0400
TZOFFSETTO:-0500
TZNAME:EST
DTSTART:20261101T060000
END:STANDARD
BEGIN:DAYLIGHT
TZOFFSETFROM:-0500
TZOFFSETTO:-0400
TZNAME:EDT
DTSTART:20270314T070000
END:DAYLIGHT
BEGIN:STANDARD
TZOFFSETFROM:-0400
TZOFFSETTO:-0500
TZNAME:EST
DTSTART:20271107T060000
END:STANDARD
BEGIN:DAYLIGHT
TZOFFSETFROM:-0500
TZOFFSETTO:-0400
TZNAME:EDT
DTSTART:20280312T070000
END:DAYLIGHT
BEGIN:STANDARD
TZOFFSETFROM:-0400
TZOFFSETTO:-0500
TZNAME:EST
DTSTART:20281105T060000
END:STANDARD
END:VTIMEZONE
BEGIN:VEVENT
DTSTART;TZID=America/Indiana/Indianapolis:20260507T100000
DTEND;TZID=America/Indiana/Indianapolis:20260507T110000
DTSTAMP:20260419T205500
CREATED:20210816T162216Z
LAST-MODIFIED:20210816T162216Z
UID:11909-1778148000-1778151600@www.boonecountyindianasheriff.com
SUMMARY:Sheriff Sales
DESCRIPTION:Boone County Sheriff’s Sales
URL:https://www.boonecountyindianasheriff.com/event/sheriff-sales/2026-05-07/
END:VEVENT
BEGIN:VEVENT
DTSTART;TZID=America/Indiana/Indianapolis:20260604T100000
DTEND;TZID=America/Indiana/Indianapolis:20260604T110000
DTSTAMP:20260419T205500
CREATED:20210816T162216Z
LAST-MODIFIED:20210816T162216Z
UID:12023-1780567200-1780570800@www.boonecountyindianasheriff.com
SUMMARY:Sheriff Sales
DESCRIPTION:Boone County Sheriff’s Sales
URL:https://www.boonecountyindianasheriff.com/event/sheriff-sales/2026-06-04/
END:VEVENT
BEGIN:VEVENT
DTSTART;TZID=America/Indiana/Indianapolis:20260702T100000
DTEND;TZID=America/Indiana/Indianapolis:20260702T110000
DTSTAMP:20260419T205500
CREATED:20210816T162216Z
LAST-MODIFIED:20210816T162216Z
UID:12024-1782986400-1782990000@www.boonecountyindianasheriff.com
SUMMARY:Sheriff Sales
DESCRIPTION:Boone County Sheriff’s Sales
URL:https://www.boonecountyindianasheriff.com/event/sheriff-sales/2026-07-02/
END:VEVENT
BEGIN:VEVENT
DTSTART;TZID=America/Indiana/Indianapolis:20260806T100000
DTEND;TZID=America/Indiana/Indianapolis:20260806T110000
DTSTAMP:20260419T205500
CREATED:20210816T162216Z
LAST-MODIFIED:20210816T162216Z
UID:12025-1786010400-1786014000@www.boonecountyindianasheriff.com
SUMMARY:Sheriff Sales
DESCRIPTION:Boone County Sheriff’s Sales
URL:https://www.boonecountyindianasheriff.com/event/sheriff-sales/2026-08-06/
END:VEVENT
BEGIN:VEVENT
DTSTART;TZID=America/Indiana/Indianapolis:20260903T100000
DTEND;TZID=America/Indiana/Indianapolis:20260903T110000
DTSTAMP:20260419T205500
CREATED:20210816T162216Z
LAST-MODIFIED:20210816T162216Z
UID:12026-1788429600-1788433200@www.boonecountyindianasheriff.com
SUMMARY:Sheriff Sales
DESCRIPTION:Boone County Sheriff’s Sales
URL:https://www.boonecountyindianasheriff.com/event/sheriff-sales/2026-09-03/
END:VEVENT
BEGIN:VEVENT
DTSTART;TZID=America/Indiana/Indianapolis:20261001T100000
DTEND;TZID=America/Indiana/Indianapolis:20261001T110000
DTSTAMP:20260419T205500
CREATED:20210816T162216Z
LAST-MODIFIED:20210816T162216Z
UID:12028-1790848800-1790852400@www.boonecountyindianasheriff.com
SUMMARY:Sheriff Sales
DESCRIPTION:Boone County Sheriff’s Sales
URL:https://www.boonecountyindianasheriff.com/event/sheriff-sales/2026-10-01/
END:VEVENT
BEGIN:VEVENT
DTSTART;TZID=America/Indiana/Indianapolis:20261105T100000
DTEND;TZID=America/Indiana/Indianapolis:20261105T110000
DTSTAMP:20260419T205500
CREATED:20210816T162216Z
LAST-MODIFIED:20210816T162216Z
UID:12048-1793872800-1793876400@www.boonecountyindianasheriff.com
SUMMARY:Sheriff Sales
DESCRIPTION:Boone County Sheriff’s Sales
URL:https://www.boonecountyindianasheriff.com/event/sheriff-sales/2026-11-05/
END:VEVENT
BEGIN:VEVENT
DTSTART;TZID=America/Indiana/Indianapolis:20261203T100000
DTEND;TZID=America/Indiana/Indianapolis:20261203T110000
DTSTAMP:20260419T205500
CREATED:20210816T162216Z
LAST-MODIFIED:20210816T162216Z
UID:12053-1796292000-1796295600@www.boonecountyindianasheriff.com
SUMMARY:Sheriff Sales
DESCRIPTION:Boone County Sheriff’s Sales
URL:https://www.boonecountyindianasheriff.com/event/sheriff-sales/2026-12-03/
END:VEVENT
BEGIN:VEVENT
DTSTART;TZID=America/Indiana/Indianapolis:20270107T100000
DTEND;TZID=America/Indiana/Indianapolis:20270107T110000
DTSTAMP:20260419T205500
CREATED:20210816T162216Z
LAST-MODIFIED:20210816T162216Z
UID:12085-1799316000-1799319600@www.boonecountyindianasheriff.com
SUMMARY:Sheriff Sales
DESCRIPTION:Boone County Sheriff’s Sales
URL:https://www.boonecountyindianasheriff.com/event/sheriff-sales/2027-01-07/
END:VEVENT
BEGIN:VEVENT
DTSTART;TZID=America/Indiana/Indianapolis:20270204T100000
DTEND;TZID=America/Indiana/Indianapolis:20270204T110000
DTSTAMP:20260419T205500
CREATED:20210816T162216Z
LAST-MODIFIED:20210816T162216Z
UID:12107-1801735200-1801738800@www.boonecountyindianasheriff.com
SUMMARY:Sheriff Sales
DESCRIPTION:Boone County Sheriff’s Sales
URL:https://www.boonecountyindianasheriff.com/event/sheriff-sales/2027-02-04/
END:VEVENT
BEGIN:VEVENT
DTSTART;TZID=America/Indiana/Indianapolis:20270304T100000
DTEND;TZID=America/Indiana/Indianapolis:20270304T110000
DTSTAMP:20260419T205500
CREATED:20210816T162216Z
LAST-MODIFIED:20210816T162216Z
UID:12135-1804154400-1804158000@www.boonecountyindianasheriff.com
SUMMARY:Sheriff Sales
DESCRIPTION:Boone County Sheriff’s Sales
URL:https://www.boonecountyindianasheriff.com/event/sheriff-sales/2027-03-04/
END:VEVENT
BEGIN:VEVENT
DTSTART;TZID=America/Indiana/Indianapolis:20270401T100000
DTEND;TZID=America/Indiana/Indianapolis:20270401T110000
DTSTAMP:20260419T205500
CREATED:20210816T162216Z
LAST-MODIFIED:20210816T162216Z
UID:12154-1806573600-1806577200@www.boonecountyindianasheriff.com
SUMMARY:Sheriff Sales
DESCRIPTION:Boone County Sheriff’s Sales
URL:https://www.boonecountyindianasheriff.com/event/sheriff-sales/2027-04-01/
END:VEVENT
BEGIN:VEVENT
DTSTART;TZID=America/Indiana/Indianapolis:20270506T100000
DTEND;TZID=America/Indiana/Indianapolis:20270506T110000
DTSTAMP:20260419T205500
CREATED:20210816T162216Z
LAST-MODIFIED:20210816T162216Z
UID:12174-1809597600-1809601200@www.boonecountyindianasheriff.com
SUMMARY:Sheriff Sales
DESCRIPTION:Boone County Sheriff’s Sales
URL:https://www.boonecountyindianasheriff.com/event/sheriff-sales/2027-05-06/
END:VEVENT
BEGIN:VEVENT
DTSTART;TZID=America/Indiana/Indianapolis:20270603T100000
DTEND;TZID=America/Indiana/Indianapolis:20270603T110000
DTSTAMP:20260419T205500
CREATED:20210816T162216Z
LAST-MODIFIED:20210816T162216Z
UID:12193-1812016800-1812020400@www.boonecountyindianasheriff.com
SUMMARY:Sheriff Sales
DESCRIPTION:Boone County Sheriff’s Sales
URL:https://www.boonecountyindianasheriff.com/event/sheriff-sales/2027-06-03/
END:VEVENT
BEGIN:VEVENT
DTSTART;TZID=America/Indiana/Indianapolis:20270701T100000
DTEND;TZID=America/Indiana/Indianapolis:20270701T110000
DTSTAMP:20260419T205500
CREATED:20210816T162216Z
LAST-MODIFIED:20210816T162216Z
UID:12206-1814436000-1814439600@www.boonecountyindianasheriff.com
SUMMARY:Sheriff Sales
DESCRIPTION:Boone County Sheriff’s Sales
URL:https://www.boonecountyindianasheriff.com/event/sheriff-sales/2027-07-01/
END:VEVENT
BEGIN:VEVENT
DTSTART;TZID=America/Indiana/Indianapolis:20270805T100000
DTEND;TZID=America/Indiana/Indianapolis:20270805T110000
DTSTAMP:20260419T205500
CREATED:20210816T162216Z
LAST-MODIFIED:20210816T162216Z
UID:12224-1817460000-1817463600@www.boonecountyindianasheriff.com
SUMMARY:Sheriff Sales
DESCRIPTION:Boone County Sheriff’s Sales
URL:https://www.boonecountyindianasheriff.com/event/sheriff-sales/2027-08-05/
END:VEVENT
BEGIN:VEVENT
DTSTART;TZID=America/Indiana/Indianapolis:20270902T100000
DTEND;TZID=America/Indiana/Indianapolis:20270902T110000
DTSTAMP:20260419T205500
CREATED:20210816T162216Z
LAST-MODIFIED:20210816T162216Z
UID:12233-1819879200-1819882800@www.boonecountyindianasheriff.com
SUMMARY:Sheriff Sales
DESCRIPTION:Boone County Sheriff’s Sales
URL:https://www.boonecountyindianasheriff.com/event/sheriff-sales/2027-09-02/
END:VEVENT
BEGIN:VEVENT
DTSTART;TZID=America/Indiana/Indianapolis:20271007T100000
DTEND;TZID=America/Indiana/Indianapolis:20271007T110000
DTSTAMP:20260419T205500
CREATED:20210816T162216Z
LAST-MODIFIED:20210816T162216Z
UID:12243-1822903200-1822906800@www.boonecountyindianasheriff.com
SUMMARY:Sheriff Sales
DESCRIPTION:Boone County Sheriff’s Sales
URL:https://www.boonecountyindianasheriff.com/event/sheriff-sales/2027-10-07/
END:VEVENT
BEGIN:VEVENT
DTSTART;TZID=America/Indiana/Indianapolis:20271104T100000
DTEND;TZID=America/Indiana/Indianapolis:20271104T110000
DTSTAMP:20260419T205500
CREATED:20210816T162216Z
LAST-MODIFIED:20210816T162216Z
UID:12247-1825322400-1825326000@www.boonecountyindianasheriff.com
SUMMARY:Sheriff Sales
DESCRIPTION:Boone County Sheriff’s Sales
URL:https://www.boonecountyindianasheriff.com/event/sheriff-sales/2027-11-04/
END:VEVENT
BEGIN:VEVENT
DTSTART;TZID=America/Indiana/Indianapolis:20271202T100000
DTEND;TZID=America/Indiana/Indianapolis:20271202T110000
DTSTAMP:20260419T205500
CREATED:20210816T162216Z
LAST-MODIFIED:20210816T162216Z
UID:12260-1827741600-1827745200@www.boonecountyindianasheriff.com
SUMMARY:Sheriff Sales
DESCRIPTION:Boone County Sheriff’s Sales
URL:https://www.boonecountyindianasheriff.com/event/sheriff-sales/2027-12-02/
END:VEVENT
BEGIN:VEVENT
DTSTART;TZID=America/Indiana/Indianapolis:20280106T100000
DTEND;TZID=America/Indiana/Indianapolis:20280106T110000
DTSTAMP:20260419T205500
CREATED:20210816T162216Z
LAST-MODIFIED:20210816T162216Z
UID:12288-1830765600-1830769200@www.boonecountyindianasheriff.com
SUMMARY:Sheriff Sales
DESCRIPTION:Boone County Sheriff’s Sales
URL:https://www.boonecountyindianasheriff.com/event/sheriff-sales/2028-01-06/
END:VEVENT
BEGIN:VEVENT
DTSTART;TZID=America/Indiana/Indianapolis:20280203T100000
DTEND;TZID=America/Indiana/Indianapolis:20280203T110000
DTSTAMP:20260419T205500
CREATED:20210816T162216Z
LAST-MODIFIED:20210816T162216Z
UID:12322-1833184800-1833188400@www.boonecountyindianasheriff.com
SUMMARY:Sheriff Sales
DESCRIPTION:Boone County Sheriff’s Sales
URL:https://www.boonecountyindianasheriff.com/event/sheriff-sales/2028-02-03/
END:VEVENT
BEGIN:VEVENT
DTSTART;TZID=America/Indiana/Indianapolis:20280302T100000
DTEND;TZID=America/Indiana/Indianapolis:20280302T110000
DTSTAMP:20260419T205500
CREATED:20210816T162216Z
LAST-MODIFIED:20210816T162216Z
UID:12335-1835604000-1835607600@www.boonecountyindianasheriff.com
SUMMARY:Sheriff Sales
DESCRIPTION:Boone County Sheriff’s Sales
URL:https://www.boonecountyindianasheriff.com/event/sheriff-sales/2028-03-02/
END:VEVENT
BEGIN:VEVENT
DTSTART;TZID=America/Indiana/Indianapolis:20280406T100000
DTEND;TZID=America/Indiana/Indianapolis:20280406T110000
DTSTAMP:20260419T205500
CREATED:20210816T162216Z
LAST-MODIFIED:20210816T162216Z
UID:12580-1838628000-1838631600@www.boonecountyindianasheriff.com
SUMMARY:Sheriff Sales
DESCRIPTION:Boone County Sheriff’s Sales
URL:https://www.boonecountyindianasheriff.com/event/sheriff-sales/2028-04-06/
END:VEVENT
END:VCALENDAR